BEGIN:VCALENDAR
VERSION:2.0
PRODID:-//Farmborough Parish Council//Meeting Calendar//EN
CALSCALE:GREGORIAN
METHOD:PUBLISH
BEGIN:VEVENT
UID:70705-20201108@farmborough-pc.gov.uk
DTSTAMP:20260423T231915Z
DTSTART;VALUE=DATE:20201108
DTEND;VALUE=DATE:20201109
SUMMARY:Council Meeting &#8211\\; 8th November 2020
DESCRIPTION:Full Council Meeting\nView details: https://farmborough-pc.gov.uk/meetings/council-meeting-8th-november-2020/
URL:https://farmborough-pc.gov.uk/meetings/council-meeting-8th-november-2020/
END:VEVENT
END:VCALENDAR
