BEGIN:VCALENDAR
VERSION:2.0
PRODID:-//Farmborough Parish Council//Meeting Calendar//EN
CALSCALE:GREGORIAN
METHOD:PUBLISH
BEGIN:VEVENT
UID:70714-20230711@farmborough-pc.gov.uk
DTSTAMP:20260424T034107Z
DTSTART;VALUE=DATE:20230711
DTEND;VALUE=DATE:20230712
SUMMARY:Council Meeting &#8211\\; 11th July 2023
DESCRIPTION:Full Council Meeting\nView details: https://farmborough-pc.gov.uk/meetings/council-meeting-11th-july-2023/
URL:https://farmborough-pc.gov.uk/meetings/council-meeting-11th-july-2023/
END:VEVENT
END:VCALENDAR
