BEGIN:VCALENDAR
VERSION:2.0
PRODID:-//Farmborough Parish Council//Meeting Calendar//EN
CALSCALE:GREGORIAN
METHOD:PUBLISH
BEGIN:VEVENT
UID:70716-20210805@farmborough-pc.gov.uk
DTSTAMP:20260424T060005Z
DTSTART;VALUE=DATE:20210805
DTEND;VALUE=DATE:20210806
SUMMARY:Council Meeting &#8211\\; 5th August 2021
DESCRIPTION:Full Council Meeting\nView details: https://farmborough-pc.gov.uk/meetings/council-meeting-5th-august-2021/
URL:https://farmborough-pc.gov.uk/meetings/council-meeting-5th-august-2021/
END:VEVENT
END:VCALENDAR
