BEGIN:VCALENDAR
VERSION:2.0
PRODID:-//Farmborough Parish Council//Meeting Calendar//EN
CALSCALE:GREGORIAN
METHOD:PUBLISH
BEGIN:VEVENT
UID:70719-20211007@farmborough-pc.gov.uk
DTSTAMP:20260424T055605Z
DTSTART;VALUE=DATE:20211007
DTEND;VALUE=DATE:20211008
SUMMARY:Council Meeting &#8211\\; 7th October 2021
DESCRIPTION:Full Council Meeting\nView details: https://farmborough-pc.gov.uk/meetings/council-meeting-7th-october-2021/
URL:https://farmborough-pc.gov.uk/meetings/council-meeting-7th-october-2021/
END:VEVENT
END:VCALENDAR
