BEGIN:VCALENDAR
VERSION:2.0
PRODID:-//Farmborough Parish Council//Meeting Calendar//EN
CALSCALE:GREGORIAN
METHOD:PUBLISH
BEGIN:VEVENT
UID:70735-20211108@farmborough-pc.gov.uk
DTSTAMP:20260424T060305Z
DTSTART;VALUE=DATE:20211108
DTEND;VALUE=DATE:20211109
SUMMARY:Council Meeting &#8211\\; 8th November 2021
DESCRIPTION:Full Council Meeting\nView details: https://farmborough-pc.gov.uk/meetings/council-meeting-8th-november-2021/
URL:https://farmborough-pc.gov.uk/meetings/council-meeting-8th-november-2021/
END:VEVENT
END:VCALENDAR
