BEGIN:VCALENDAR
VERSION:2.0
PRODID:-//Farmborough Parish Council//Meeting Calendar//EN
CALSCALE:GREGORIAN
METHOD:PUBLISH
BEGIN:VEVENT
UID:70742-20220704@farmborough-pc.gov.uk
DTSTAMP:20260424T094503Z
DTSTART;VALUE=DATE:20220704
DTEND;VALUE=DATE:20220705
SUMMARY:Council Meeting &#8211\\; 4th July 2022
DESCRIPTION:Full Council Meeting\nView details: https://farmborough-pc.gov.uk/meetings/council-meeting-4th-july-2022/
URL:https://farmborough-pc.gov.uk/meetings/council-meeting-4th-july-2022/
END:VEVENT
END:VCALENDAR
