BEGIN:VCALENDAR
VERSION:2.0
PRODID:-//Farmborough Parish Council//Meeting Calendar//EN
CALSCALE:GREGORIAN
METHOD:PUBLISH
BEGIN:VEVENT
UID:70745-20210211@farmborough-pc.gov.uk
DTSTAMP:20260421T080143Z
DTSTART;VALUE=DATE:20210211
DTEND;VALUE=DATE:20210212
SUMMARY:Council Meeting &#8211\\; 11th February 2021
DESCRIPTION:Full Council Meeting\nView details: https://farmborough-pc.gov.uk/meetings/council-meeting-11th-february-2021/
URL:https://farmborough-pc.gov.uk/meetings/council-meeting-11th-february-2021/
END:VEVENT
END:VCALENDAR
