BEGIN:VCALENDAR
VERSION:2.0
PRODID:-//Farmborough Parish Council//Meeting Calendar//EN
CALSCALE:GREGORIAN
METHOD:PUBLISH
BEGIN:VEVENT
UID:70754-20220312@farmborough-pc.gov.uk
DTSTAMP:20260424T101510Z
DTSTART;VALUE=DATE:20220312
DTEND;VALUE=DATE:20220313
SUMMARY:Council Meeting &#8211\\; 12th March 2022
DESCRIPTION:Full Council Meeting\nView details: https://farmborough-pc.gov.uk/meetings/council-meeting-12th-march-2022/
URL:https://farmborough-pc.gov.uk/meetings/council-meeting-12th-march-2022/
END:VEVENT
END:VCALENDAR
