BEGIN:VCALENDAR
VERSION:2.0
PRODID:-//Farmborough Parish Council//Meeting Calendar//EN
CALSCALE:GREGORIAN
METHOD:PUBLISH
BEGIN:VEVENT
UID:70760-20190906@farmborough-pc.gov.uk
DTSTAMP:20260423T192641Z
DTSTART;VALUE=DATE:20190906
DTEND;VALUE=DATE:20190907
SUMMARY:council Meeting &#8211\\; 6th September 2019
DESCRIPTION:Full Council Meeting\nView details: https://farmborough-pc.gov.uk/meetings/council-meeting-6th-september-2019/
URL:https://farmborough-pc.gov.uk/meetings/council-meeting-6th-september-2019/
END:VEVENT
END:VCALENDAR
