BEGIN:VCALENDAR
VERSION:2.0
PRODID:-//Farmborough Parish Council//Meeting Calendar//EN
CALSCALE:GREGORIAN
METHOD:PUBLISH
BEGIN:VEVENT
UID:70779-20221213@farmborough-pc.gov.uk
DTSTAMP:20260424T074521Z
DTSTART;VALUE=DATE:20221213
DTEND;VALUE=DATE:20221214
SUMMARY:Council Meeting &#8211\\; 13th December 2022
DESCRIPTION:Full Council Meeting\nView details: https://farmborough-pc.gov.uk/meetings/council-meeting-13th-december-2022/
URL:https://farmborough-pc.gov.uk/meetings/council-meeting-13th-december-2022/
END:VEVENT
END:VCALENDAR
