BEGIN:VCALENDAR
VERSION:2.0
PRODID:-//Farmborough Parish Council//Meeting Calendar//EN
CALSCALE:GREGORIAN
METHOD:PUBLISH
BEGIN:VEVENT
UID:70793-20210312@farmborough-pc.gov.uk
DTSTAMP:20260421T080126Z
DTSTART;VALUE=DATE:20210312
DTEND;VALUE=DATE:20210313
SUMMARY:Council Meeting &#8211\\; 12th March 2021
DESCRIPTION:Full Council Meeting\nView details: https://farmborough-pc.gov.uk/meetings/council-meeting-12th-march-2021/
URL:https://farmborough-pc.gov.uk/meetings/council-meeting-12th-march-2021/
END:VEVENT
END:VCALENDAR
