BEGIN:VCALENDAR
VERSION:2.0
PRODID:-//Farmborough Parish Council//Meeting Calendar//EN
CALSCALE:GREGORIAN
METHOD:PUBLISH
BEGIN:VEVENT
UID:70805-20200110@farmborough-pc.gov.uk
DTSTAMP:20260423T211421Z
DTSTART;VALUE=DATE:20200110
DTEND;VALUE=DATE:20200111
SUMMARY:Council Meeting &#8211\\; 10th January 2020
DESCRIPTION:Full Council Meeting\nView details: https://farmborough-pc.gov.uk/meetings/council-meeting-10th-january-2020/
URL:https://farmborough-pc.gov.uk/meetings/council-meeting-10th-january-2020/
END:VEVENT
END:VCALENDAR
