BEGIN:VCALENDAR
VERSION:2.0
PRODID:-//Farmborough Parish Council//Meeting Calendar//EN
CALSCALE:GREGORIAN
METHOD:PUBLISH
BEGIN:VEVENT
UID:70818-20210906@farmborough-pc.gov.uk
DTSTAMP:20260424T060336Z
DTSTART;VALUE=DATE:20210906
DTEND;VALUE=DATE:20210907
SUMMARY:Council Meeting &#8211\\; 6th September 2021
DESCRIPTION:Full Council Meeting\nView details: https://farmborough-pc.gov.uk/meetings/council-meeting-6th-september-2021/
URL:https://farmborough-pc.gov.uk/meetings/council-meeting-6th-september-2021/
END:VEVENT
END:VCALENDAR
