BEGIN:VCALENDAR
VERSION:2.0
PRODID:-//Farmborough Parish Council//Meeting Calendar//EN
CALSCALE:GREGORIAN
METHOD:PUBLISH
BEGIN:VEVENT
UID:70831-20220428@farmborough-pc.gov.uk
DTSTAMP:20260423T103151Z
DTSTART;VALUE=DATE:20220428
DTEND;VALUE=DATE:20220429
SUMMARY:Annual Meeting &#8211\\; 28th April 2022
DESCRIPTION:Annual Meeting\nView details: https://farmborough-pc.gov.uk/meetings/annual-meeting-28th-april-2022/
URL:https://farmborough-pc.gov.uk/meetings/annual-meeting-28th-april-2022/
END:VEVENT
END:VCALENDAR
