BEGIN:VCALENDAR
VERSION:2.0
PRODID:-//Farmborough Parish Council//Meeting Calendar//EN
CALSCALE:GREGORIAN
METHOD:PUBLISH
BEGIN:VEVENT
UID:70942-20231010@farmborough-pc.gov.uk
DTSTAMP:20260424T014155Z
DTSTART;VALUE=DATE:20231010
DTEND;VALUE=DATE:20231011
SUMMARY:Council Meeting- 10th October 2023
DESCRIPTION:Full Council Meeting\nView details: https://farmborough-pc.gov.uk/meetings/council-meeting-10th-october-2023/
URL:https://farmborough-pc.gov.uk/meetings/council-meeting-10th-october-2023/
END:VEVENT
END:VCALENDAR
