BEGIN:VCALENDAR
VERSION:2.0
PRODID:-//Farmborough Parish Council//Meeting Calendar//EN
CALSCALE:GREGORIAN
METHOD:PUBLISH
BEGIN:VEVENT
UID:70945-20231107@farmborough-pc.gov.uk
DTSTAMP:20260424T035655Z
DTSTART;VALUE=DATE:20231107
DTEND;VALUE=DATE:20231108
SUMMARY:Council Meeting- 7th November 2023
DESCRIPTION:Full Council Meeting\nView details: https://farmborough-pc.gov.uk/meetings/council-meeting-7th-november-2023/
URL:https://farmborough-pc.gov.uk/meetings/council-meeting-7th-november-2023/
END:VEVENT
END:VCALENDAR
