BEGIN:VCALENDAR
VERSION:2.0
PRODID:-//Farmborough Parish Council//Meeting Calendar//EN
CALSCALE:GREGORIAN
METHOD:PUBLISH
BEGIN:VEVENT
UID:70948-20231212@farmborough-pc.gov.uk
DTSTAMP:20260424T014152Z
DTSTART;VALUE=DATE:20231212
DTEND;VALUE=DATE:20231213
SUMMARY:Council Meeting- 12th December 2023
DESCRIPTION:Full Council Meeting\nView details: https://farmborough-pc.gov.uk/meetings/council-meeting-12th-december-2023/
URL:https://farmborough-pc.gov.uk/meetings/council-meeting-12th-december-2023/
END:VEVENT
END:VCALENDAR
