BEGIN:VCALENDAR
VERSION:2.0
PRODID:-//Farmborough Parish Council//Meeting Calendar//EN
CALSCALE:GREGORIAN
METHOD:PUBLISH
BEGIN:VEVENT
UID:70954-20240213@farmborough-pc.gov.uk
DTSTAMP:20260423T231814Z
DTSTART;VALUE=DATE:20240213
DTEND;VALUE=DATE:20240214
SUMMARY:Council Meeting- 13th February 2024
DESCRIPTION:Full Council Meeting\nView details: https://farmborough-pc.gov.uk/meetings/council-meeting-13th-february-2024/
URL:https://farmborough-pc.gov.uk/meetings/council-meeting-13th-february-2024/
END:VEVENT
END:VCALENDAR
