BEGIN:VCALENDAR
VERSION:2.0
PRODID:-//Farmborough Parish Council//Meeting Calendar//EN
CALSCALE:GREGORIAN
METHOD:PUBLISH
BEGIN:VEVENT
UID:70963-20240423@farmborough-pc.gov.uk
DTSTAMP:20260421T080143Z
DTSTART;VALUE=DATE:20240423
DTEND;VALUE=DATE:20240424
SUMMARY:Annual Meeting 2024
DESCRIPTION:Annual Meeting\nView details: https://farmborough-pc.gov.uk/meetings/annual-meeting-2024/
URL:https://farmborough-pc.gov.uk/meetings/annual-meeting-2024/
END:VEVENT
END:VCALENDAR
