BEGIN:VCALENDAR
VERSION:2.0
PRODID:-//Farmborough Parish Council//Meeting Calendar//EN
CALSCALE:GREGORIAN
METHOD:PUBLISH
BEGIN:VEVENT
UID:70965-20240514@farmborough-pc.gov.uk
DTSTAMP:20260423T231814Z
DTSTART;VALUE=DATE:20240514
DTEND;VALUE=DATE:20240515
SUMMARY:Council Meeting- 14th May 2024
DESCRIPTION:Full Council Meeting\nView details: https://farmborough-pc.gov.uk/meetings/council-meeting-14th-may-2024/
URL:https://farmborough-pc.gov.uk/meetings/council-meeting-14th-may-2024/
END:VEVENT
END:VCALENDAR
