BEGIN:VCALENDAR
VERSION:2.0
PRODID:-//Farmborough Parish Council//Meeting Calendar//EN
CALSCALE:GREGORIAN
METHOD:PUBLISH
BEGIN:VEVENT
UID:70968-20240611@farmborough-pc.gov.uk
DTSTAMP:20260423T210223Z
DTSTART;VALUE=DATE:20240611
DTEND;VALUE=DATE:20240612
SUMMARY:Council Meeting- 11th June 2024
DESCRIPTION:Full Council Meeting\nView details: https://farmborough-pc.gov.uk/meetings/council-meeting-11th-june-2024/
URL:https://farmborough-pc.gov.uk/meetings/council-meeting-11th-june-2024/
END:VEVENT
END:VCALENDAR
