BEGIN:VCALENDAR
VERSION:2.0
PRODID:-//Farmborough Parish Council//Meeting Calendar//EN
CALSCALE:GREGORIAN
METHOD:PUBLISH
BEGIN:VEVENT
UID:71032-20250211@farmborough-pc.gov.uk
DTSTAMP:20260423T193358Z
DTSTART;VALUE=DATE:20250211
DTEND;VALUE=DATE:20250212
SUMMARY:Council Meeting &#8211\\; 11 February 2025
DESCRIPTION:Full Council Meeting\nView details: https://farmborough-pc.gov.uk/meetings/council-meeting-11-february-2025/
URL:https://farmborough-pc.gov.uk/meetings/council-meeting-11-february-2025/
END:VEVENT
END:VCALENDAR
